BEGIN:VCALENDAR
VERSION:2.0
PRODID:-//hacksw/handcal//NONSGML v1.0//EN
BEGIN:VEVENT
DTSTART:20240112T110000Z
DTEND:20240112T170000Z
LOCATION:Parc des Expositions \n1, Place de la Porte de Versailles \n75015 PARIS
ORGANIZER;CN=CentraleSupélec Alumni:MAILTO:csa-alumni@centralesupelec-alumni.com
SUMMARY:Baptême de plongée et expérience d'apnée - CSA x Salon de la plongée
DESCRIPTION:\nCentraleSupélec Alumni est très heureux de vous faire bénéficier d'un nouveau partenariat avec le Salon de la Plongée.Nous avons le plaisir de vous proposer cette offre exclusive :- 100 baptêmes de ...
URL:https://association.centralesupelec-alumni.com/fr/event/bapteme-de-plongee-et-experience-d-apnee-csa-x-salon-de-la-plongee/2024/01/12/7413
BEGIN:VALARM
TRIGGER:-P0DT1H0M0S
ACTION:DISPLAY
END:VALARM
END:VEVENT
END:VCALENDAR