BEGIN:VCALENDAR
VERSION:2.0
PRODID:-//hacksw/handcal//NONSGML v1.0//EN
BEGIN:VEVENT
DTSTART:20231019T061500Z
DTEND:20231019T170000Z
LOCATION:Musée du Louvre-Lens \n99, Rue Paul Bert \n62300 LENS
ORGANIZER;CN=Pierre Chavy - Promotion ECP 1956:MAILTO:pierre.chavy@gmail.com
SUMMARY:Visite du musée Louvre-Lens
DESCRIPTION:C'est l'expo temporaire : Les Animaux Fantastiques qui pourrait intéresser beaucoup de nos amies et camarades qui motive l’organisation de cette excursion.  De plus, Le Louvre-Lens est un superbe...
URL:https://association.centralesupelec-alumni.com/fr/group/promotion-ecp-1956/193/calendar/visite-du-musee-louvre-lens/2023/10/19/7402
BEGIN:VALARM
TRIGGER:-P0DT1H0M0S
ACTION:DISPLAY
END:VALARM
END:VEVENT
END:VCALENDAR