BEGIN:VCALENDAR
VERSION:2.0
PRODID:-//hacksw/handcal//NONSGML v1.0//EN
BEGIN:VEVENT
DTSTART:20231017T163000Z
DTEND:20231017T173000Z
LOCATION:
ORGANIZER;CN=Jean-Christophe STRICH - Repreneurs (CSA):MAILTO:jc.strich@free.fr
SUMMARY:Table ronde mensuelle HEC REPRENEURS : Digitalisation, un levier efficace pour sécuriser sa reprise et dynamiser l’activité
DESCRIPTION:Le Groupement HEC REPRENEURS invite nos membres de CentraleSupelec Repreneurs à assister à leur prochaine table ronde :\nRendez-vous le Mardi 17 Octobre à 18h30\nAssociation des Alumni HEC au 9 avenue...
URL:https://association.centralesupelec-alumni.com/fr/group/repreneurs-csa/331/calendar/table-ronde-mensuelle-hec-repreneurs-digitalisation-un-levier-efficace-pour-securiser-sa-reprise-et-dynamiser-l-activite/2023/10/17/7401
BEGIN:VALARM
TRIGGER:-P0DT1H0M0S
ACTION:DISPLAY
END:VALARM
END:VEVENT
END:VCALENDAR