BEGIN:VCALENDAR
VERSION:2.0
PRODID:-//hacksw/handcal//NONSGML v1.0//EN
BEGIN:VEVENT
DTSTART:20231109T090000Z
DTEND:20231109T100000Z
LOCATION:Centre de Tri - Valéor - Pizzorno Environnement \n4, Allée de Vaugrenier \n83490 LE MUY
ORGANIZER;CN=Alexandre Francois:MAILTO:alexandre.francois@wanadoo.fr
SUMMARY:Visite du Centre de recyclage des déchets du Muy
DESCRIPTION:La prochaine sortie du Groupe du Var de CentraleSupelec Alumni aura  lieu Jeudi 9 novembre  au Muy La visite du Centre de recyclage des déchets du Muy devrait intéresser tant les consommateurs que les...
URL:https://association.centralesupelec-alumni.com/fr/event/visite-du-centre-de-recyclage-des-dechets-du-muy/2023/11/09/7400
BEGIN:VALARM
TRIGGER:-P0DT1H0M0S
ACTION:DISPLAY
END:VALARM
END:VEVENT
END:VCALENDAR