BEGIN:VCALENDAR
VERSION:2.0
PRODID:-//hacksw/handcal//NONSGML v1.0//EN
BEGIN:VEVENT
DTSTART:20231109T110000Z
DTEND:20231109T153000Z
LOCATION:Château de Vincennes \nAvenue de Paris \n94300 VINCENNES
ORGANIZER;CN=François Pinton - Généalogie (CSA):MAILTO:francois.pinton@gmx.fr
SUMMARY:Déjeuner-visite des archives militaires au Château de Vincennes (94300)
DESCRIPTION:Bonjour,\nNous avons retenu la date du 9 novembre pour notre déjeuner-visite et prévu d'aller visiter les archives militaires de Vincennes.Nous serons  reçu par Mme Ruby-Nougaret, Adjointe à la Cheffe...
URL:https://association.centralesupelec-alumni.com/fr/group/genealogie-csa/49/calendar/dejeuner-visite-des-archives-militaires-au-chateau-de-vincennes-94300/2023/11/09/7397
BEGIN:VALARM
TRIGGER:-P0DT1H0M0S
ACTION:DISPLAY
END:VALARM
END:VEVENT
END:VCALENDAR