BEGIN:VCALENDAR
VERSION:2.0
PRODID:-//hacksw/handcal//NONSGML v1.0//EN
BEGIN:VEVENT
DTSTART:20231018T103000Z
DTEND:20231018T113000Z
LOCATION:
ORGANIZER;CN=Gabriela Belaid - CentraleSupelec Au Féminin (CSA):MAILTO:gabriela.belaid@centraliens.net
SUMMARY:Webinaire  : Dépasser son syndrome d’imposture pour libérer son plein potentiel !
DESCRIPTION:Dépasser son syndrome d’imposture pour libérer son plein potentiel ! Vous êtes-vous déjà senti(e) sur-estimé(e) ? Avez-vous déjà douté de votre valeur et de vos compétences malgré des preuves...
URL:https://association.centralesupelec-alumni.com/fr/group/centralesupelec-au-feminin-csa/73/calendar/webinaire-depasser-son-syndrome-d-imposture-pour-liberer-son-plein-potentiel/2023/10/18/7369
BEGIN:VALARM
TRIGGER:-P0DT1H0M0S
ACTION:DISPLAY
END:VALARM
END:VEVENT
END:VCALENDAR