BEGIN:VCALENDAR
VERSION:2.0
PRODID:-//hacksw/handcal//NONSGML v1.0//EN
BEGIN:VEVENT
DTSTART:20231201T133000Z
DTEND:20231201T163000Z
LOCATION:Maison CentraleSupélec Alumni \n8, Rue Jean Goujon \n75008 PARIS
ORGANIZER;CN=CentraleSupélec Alumni:MAILTO:csa-alumni@centralesupelec-alumni.com
SUMMARY:Rencontres CentraleSupélec Alumni - Première partie
DESCRIPTION:Événement inédit, les 'Rencontres CentraleSupélec Alumni' donneront l'occasion à l'ensemble des élèves et diplômés de l'École, de se retrouver pour deux demi-journées de conférences.Plusieurs...
URL:https://association.centralesupelec-alumni.com/fr/event/rencontres-centralesupelec-alumni-premiere-partie/2023/12/01/7353
BEGIN:VALARM
TRIGGER:-P0DT1H0M0S
ACTION:DISPLAY
END:VALARM
END:VEVENT
END:VCALENDAR