BEGIN:VCALENDAR
VERSION:2.0
PRODID:-//hacksw/handcal//NONSGML v1.0//EN
BEGIN:VEVENT
DTSTART:20240115T143000Z
DTEND:20240115T161500Z
LOCATION:Musée national de la Marine \nPlace du Trocadéro  \n75116 PARIS
ORGANIZER;CN=Jacqueline Pasdeloup - CSA Ile de France:MAILTO:jacqueline@asso-supelec.org
SUMMARY:Le musée de la marine réouvert
DESCRIPTION:Panoramique chaillot © MnM-Photo Arnaud Fux\nATTENTION : L'HEURE DE RENDEZ-VOUS EST DECALEE A 15 H 30\nLe musée national de la Marine possède l’une des plus belles et plus anciennes collections au...
URL:https://association.centralesupelec-alumni.com/fr/group/csa-ile-de-france/587/calendar/le-musee-de-la-marine-reouvert/2024/01/15/7296
BEGIN:VALARM
TRIGGER:-P0DT1H0M0S
ACTION:DISPLAY
END:VALARM
END:VEVENT
END:VCALENDAR