BEGIN:VCALENDAR
VERSION:2.0
PRODID:-//hacksw/handcal//NONSGML v1.0//EN
BEGIN:VEVENT
DTSTART:20231020T070000Z
DTEND:20231022T160000Z
LOCATION:SkySong \n1475, North Scottsdale Road \n85257 SCOTTSDALE
ORGANIZER;CN=CentraleSupélec Alumni - USA (CSA):MAILTO:csa-alumni@centralesupelec-alumni.com
SUMMARY:Alumni Days InterCentrale et CentraleSupélec 2023 - Phoenix
DESCRIPTION:Les Alumni Days reviennent en 2023 à Phoenix, Arizona ! Organisé par les associations Centraliennes et Supélec, cet événement est également ouvert aux alumni des autres grandes écoles et universités...
URL:https://association.centralesupelec-alumni.com/fr/group/usa-csa/209/calendar/alumni-days-intercentrale-et-centralesupelec-2023-phoenix/2023/10/20/7274
BEGIN:VALARM
TRIGGER:-P0DT1H0M0S
ACTION:DISPLAY
END:VALARM
END:VEVENT
END:VCALENDAR