BEGIN:VCALENDAR
VERSION:2.0
PRODID:-//hacksw/handcal//NONSGML v1.0//EN
BEGIN:VEVENT
DTSTART:20240116T113000Z
DTEND:20240116T130000Z
LOCATION:
ORGANIZER;CN=CSA Carrières:MAILTO:carrieres@centraliens.net
SUMMARY:Career transitions made simple / EN ANGLAIS UNIQUEMENT
DESCRIPTION:\nEN ANGLAIS UNIQUEMENT\nAt a career crossroads and not progressing as you should ? 6 critical steps to find your next assignment where your contribution will be truly valued.\nIf you’ve reached a...
URL:https://association.centralesupelec-alumni.com/fr/event/career-transitions-made-simple-en-anglais-uniquement/2024/01/16/7244
BEGIN:VALARM
TRIGGER:-P0DT1H0M0S
ACTION:DISPLAY
END:VALARM
END:VEVENT
END:VCALENDAR