BEGIN:VCALENDAR
VERSION:2.0
PRODID:-//hacksw/handcal//NONSGML v1.0//EN
BEGIN:VEVENT
DTSTART:20231017T103000Z
DTEND:20231017T120000Z
LOCATION:
ORGANIZER;CN=CSA Carrières:MAILTO:carrieres@centraliens.net
SUMMARY:Ouvrir le champ des possibles et évaluer ses options de carrière
DESCRIPTION:\nQuel chemin prendre ? Là est la question. Si vous vous trouvez à l’aube d’un choix professionnel important, ce webinaire peut vous aider.\nDans ces moments, le choix n’est certes pas aisé.\nSoit on ...
URL:https://association.centralesupelec-alumni.com/fr/event/ouvrir-le-champ-des-possibles-et-evaluer-ses-options-de-carriere/2023/10/17/7241
BEGIN:VALARM
TRIGGER:-P0DT1H0M0S
ACTION:DISPLAY
END:VALARM
END:VEVENT
END:VCALENDAR