BEGIN:VCALENDAR
VERSION:2.0
PRODID:-//hacksw/handcal//NONSGML v1.0//EN
BEGIN:VEVENT
DTSTART:20231201T073000Z
DTEND:20231201T170000Z
LOCATION:Maison CentraleSupélec Alumni \n8, Rue Jean Goujon \n75008 PARIS
ORGANIZER;CN=CentraleSupélec Alumni:MAILTO:csa-alumni@centralesupelec-alumni.com
SUMMARY:Colloque sur l'œuvre de Gustave Eiffel (ECP 1855)
DESCRIPTION:\nL’année 2023 marque le centenaire de la disparition de Gustave Eiffel (15 décembre 1832 – 27 décembre 1923), diplômé de l'École Centrale des Arts et Manufactures en 1855.  CentraleSupélec Alumni,...
URL:https://association.centralesupelec-alumni.com/fr/event/colloque-sur-l-oeuvre-de-gustave-eiffel-ecp-1855/2023/12/01/7227
BEGIN:VALARM
TRIGGER:-P0DT1H0M0S
ACTION:DISPLAY
END:VALARM
END:VEVENT
END:VCALENDAR