BEGIN:VCALENDAR
VERSION:2.0
PRODID:-//hacksw/handcal//NONSGML v1.0//EN
BEGIN:VEVENT
DTSTART:20240117T230000Z
DTEND:20240127T225500Z
LOCATION:EGYPTE
ORGANIZER;CN=Jean-Jacques Henry - CSA Ile de France:MAILTO:jjghenry@gmail.com
SUMMARY:VOYAGE EN EGYPTE
DESCRIPTION:Circuit du 18 au 27 janvier 2024  Avec croisière sur le Nil de 7 nuits  à bord d'une DAHABEYA                                Nous vous demandons de vous inscrire  très rapidement, au plus tard  le 10 ...
URL:https://association.centralesupelec-alumni.com/fr/group/csa-ile-de-france/587/calendar/voyage-en-egypte/2024/01/18/7218
BEGIN:VALARM
TRIGGER:-P0DT1H0M0S
ACTION:DISPLAY
END:VALARM
END:VEVENT
END:VCALENDAR