BEGIN:VCALENDAR
VERSION:2.0
PRODID:-//hacksw/handcal//NONSGML v1.0//EN
BEGIN:VEVENT
DTSTART:20231017T170000Z
DTEND:20231020T073000Z
LOCATION:La Ciotat      (Bouches du Rhône)  \n54, Boulevard Jean Jaurès \n13600 LA CIOTAT
ORGANIZER;CN=Michel Dupont - Promotion Supélec 1966:MAILTO:michelcdupont@aol.com
SUMMARY:Réunion  de Promotion  Supélec 1966 La Ciotat  17-20 Octobre 2023
DESCRIPTION:Journées Supelec Promotion 66  -  LA CIOTAT 17 au 20 octobre 202330 personnes environA noter, les Championnats du monde de Rugby auront lieu en France, à cette période (en octobre, matchs les 1er, 2, ...
URL:https://association.centralesupelec-alumni.com/fr/group/promotion-supelec-1966/497/calendar/reunion-de-promotion-supelec-1966-la-ciotat-17-20-octobre-2023/2023/10/17/7210
BEGIN:VALARM
TRIGGER:-P0DT1H0M0S
ACTION:DISPLAY
END:VALARM
END:VEVENT
END:VCALENDAR