BEGIN:VCALENDAR
VERSION:2.0
PRODID:-//hacksw/handcal//NONSGML v1.0//EN
BEGIN:VEVENT
DTSTART:20230629T120000Z
DTEND:20230629T140000Z
LOCATION:Restaurant Casa Masana \n129, Carrer de Balmes \n08008 BARCELONA
ORGANIZER;CN=Pascal Bourbon - Espagne (CSA):MAILTO:pascal.bourbon@a2bi.com
SUMMARY:Déjeuner CentraleSupelec Alumni à Barcelone
DESCRIPTION:Cher(e)s camarades,J'ai le plaisir de vous inviter à participer à un déjeuner de notre association CentraleSupelec Alumni en Espagne, le jeudi 29 juin à 14h à Barcelone :Restaurant Casa MasanaCalle...
URL:https://association.centralesupelec-alumni.com/fr/group/espagne-csa/57/calendar/dejeuner-centralesupelec-alumni-a-barcelone/2023/06/29/7207
BEGIN:VALARM
TRIGGER:-P0DT1H0M0S
ACTION:DISPLAY
END:VALARM
END:VEVENT
END:VCALENDAR