BEGIN:VCALENDAR
VERSION:2.0
PRODID:-//hacksw/handcal//NONSGML v1.0//EN
BEGIN:VEVENT
DTSTART:20230627T170000Z
DTEND:20230627T190000Z
LOCATION:Maison ETP \n15, Rue Cortambert \n75116 PARIS
ORGANIZER;CN=Francis d'Auriac - Énergie Durable (CSA):MAILTO:energie.conseil.plus@gmail.com
SUMMARY:La géopolitique du gaz naturel
DESCRIPTION:La géopolitique du gaz naturel Mardi 27 juin  à 19 hMaison ETP\n 15 rue Cortambert Paris 16en présentiel et en ligne par Jérôme Ferrier ancien cadre dirigeant de TotalEnergies, ancien président de...
URL:https://association.centralesupelec-alumni.com/fr/group/energie-durable-csa/323/calendar/la-geopolitique-du-gaz-naturel/2023/06/27/7205
BEGIN:VALARM
TRIGGER:-P0DT1H0M0S
ACTION:DISPLAY
END:VALARM
END:VEVENT
END:VCALENDAR