BEGIN:VCALENDAR
VERSION:2.0
PRODID:-//hacksw/handcal//NONSGML v1.0//EN
BEGIN:VEVENT
DTSTART:20230630T100000Z
DTEND:20230630T120000Z
LOCATION:Domaine des Artauds \n668, Chemin Carraire des Artauds \n13100 LE THOLONET
ORGANIZER;CN=Philippe Cabrit - Provence (CSA):MAILTO:philippe.cabrit@centralesupelec-alumni.com
SUMMARY:Déjeuner au Domaine des Artauds
DESCRIPTION:Vendredi 30 juin au Tholonet\n Déjeuner au Domaine des Artauds\n ­Les inscriptions pour notre déjeuner estival annuel au Domaine des Artauds, chez Aline et Philippe Payan, sont ouvertes ! Au pied de...
URL:https://association.centralesupelec-alumni.com/fr/group/provence-csa/347/calendar/-dejeuner-au-domaine-des-artauds/2023/06/30/7204
BEGIN:VALARM
TRIGGER:-P0DT1H0M0S
ACTION:DISPLAY
END:VALARM
END:VEVENT
END:VCALENDAR