BEGIN:VCALENDAR
VERSION:2.0
PRODID:-//hacksw/handcal//NONSGML v1.0//EN
BEGIN:VEVENT
DTSTART:20230628T060000Z
DTEND:20230628T160000Z
LOCATION:Nice, Le Cannet, Cadarache
ORGANIZER;CN=Olivier Caillau - Côte-d'Azur - Corse (CSA):MAILTO:olivier@caillau.net
SUMMARY:Visite du Chantier ITER de Cadarache, avec les HEC Côte d'Azur - INSCRIPTIONS CLOSES
DESCRIPTION:Hec Alumni Côte d'azur organise le Mercredi 28 juin une visite du chantier d'ITER à Cadarache, avec voyage en bus depuis Nice et Cannes.ITER est l'un des projets de recherche énergétique les plus...
URL:https://association.centralesupelec-alumni.com/fr/group/cote-d-azur-corse-csa/309/calendar/visite-du-chantier-iter-de-cadarache-avec-les-hec-cote-d-azur-inscriptions-closes/2023/06/28/7203
BEGIN:VALARM
TRIGGER:-P0DT1H0M0S
ACTION:DISPLAY
END:VALARM
END:VEVENT
END:VCALENDAR