BEGIN:VCALENDAR
VERSION:2.0
PRODID:-//hacksw/handcal//NONSGML v1.0//EN
BEGIN:VEVENT
DTSTART:20230626T170000Z
DTEND:20230626T183000Z
LOCATION:Hotel des Arts et Metiers \n9bis, Avenue d'Iéna \n75116 PARIS
ORGANIZER;CN=Christian Ledoux - Automobile (CSA):MAILTO:christian.ledoux64@outlook.fr
SUMMARY:Conférence de Clément Nouvel sur le Lidar de VALEO
DESCRIPTION:lien d'inscription : https://www.arts-et-metiers.asso.fr/events/112112Clément Nouvel est CTO chief technical officer de la technologie du Lidar chez VALEO,basé sur un système d'imagerie laser, le...
URL:https://association.centralesupelec-alumni.com/fr/group/automobile-csa/317/calendar/conference-de-clement-nouvel-sur-le-lidar-de-valeo/2023/06/26/7178
BEGIN:VALARM
TRIGGER:-P0DT1H0M0S
ACTION:DISPLAY
END:VALARM
END:VEVENT
END:VCALENDAR