BEGIN:VCALENDAR
VERSION:2.0
PRODID:-//hacksw/handcal//NONSGML v1.0//EN
BEGIN:VEVENT
DTSTART:20231019T103000Z
DTEND:20231019T120000Z
LOCATION:
ORGANIZER;CN=CSA Carrières:MAILTO:carrieres@centraliens.net
SUMMARY:[ANNULÉ] Atelier " Créez votre prochaine partie de carrière en valorisant votre expérience "
DESCRIPTION:\nAnnulé\n🏆 Vous êtes un talent expérimenté et souhaitez valoriser \nvotre expérience auprès des recruteurs ? Durant cet atelier, Vânia de Mherit vous proposera de travailler sur comment valoriser...
URL:https://association.centralesupelec-alumni.com/fr/event/-annule-atelier-creez-votre-prochaine-partie-de-carriere-en-valorisant-votre-experience/2023/10/19/7174
BEGIN:VALARM
TRIGGER:-P0DT1H0M0S
ACTION:DISPLAY
END:VALARM
END:VEVENT
END:VCALENDAR