BEGIN:VCALENDAR
VERSION:2.0
PRODID:-//hacksw/handcal//NONSGML v1.0//EN
BEGIN:VEVENT
DTSTART:20240514T100000Z
DTEND:20240514T120000Z
LOCATION:Restaurant Entre Terre et Mer \n32, Boulevard Maréchal Leclerc \n38000 GRENOBLE
ORGANIZER;CN=Philippe Chinkirch:MAILTO:philippe.chinkirch@centraliens.net
SUMMARY:Repas mensuel à Grenoble
DESCRIPTION:Chère camarade, cher camarade,\nTu es cordialement invité(e) aux repas mensuels qui ont lieu le premier mardi de chaque mois (hors vacances).\nC’est un rendez-vous très sympathique… nous serons...
URL:https://association.centralesupelec-alumni.com/fr/event/repas-mensuel-a-grenoble/2024/05/14/7166
BEGIN:VALARM
TRIGGER:-P0DT1H0M0S
ACTION:DISPLAY
END:VALARM
END:VEVENT
END:VCALENDAR