BEGIN:VCALENDAR
VERSION:2.0
PRODID:-//hacksw/handcal//NONSGML v1.0//EN
BEGIN:VEVENT
DTSTART:20240109T110000Z
DTEND:20240109T130000Z
LOCATION:Restaurant Le Sunset Boulevard \n22, Rue de la Poste \n38000 GRENOBLE
ORGANIZER;CN=Philippe Chinkirch:MAILTO:philippe.chinkirch@centraliens.net
SUMMARY:Repas mensuel à Grenoble
DESCRIPTION:Chère camarade, cher camarade,\nTu es cordialement invité(e) aux repas mensuels qui ont lieu le premier mardi de chaque mois (hors vacances).\nC’est un rendez-vous très sympathique… nous serons...
URL:https://association.centralesupelec-alumni.com/fr/event/repas-mensuel-a-grenoble/2024/01/09/7162
BEGIN:VALARM
TRIGGER:-P0DT1H0M0S
ACTION:DISPLAY
END:VALARM
END:VEVENT
END:VCALENDAR