BEGIN:VCALENDAR
VERSION:2.0
PRODID:-//hacksw/handcal//NONSGML v1.0//EN
BEGIN:VEVENT
DTSTART:20230628T180000Z
DTEND:20230628T193000Z
LOCATION:Philarmonie de Paris \n221, Avenue Jean Jaurès \n75019 PARIS
ORGANIZER;CN=Jacqueline Pasdeloup - CSA Ile de France:MAILTO:jacqueline@asso-supelec.org
SUMMARY:Concert " The Met Orchestra " à la Philarmonie de Paris
DESCRIPTION:\nL’orchestre sera dirigé par Yannick Nézet-Séguin. Programme Berlioz :\nExtraits des Troyens avec la Mezzo –Soprano Joyce Didonato.\nSymphonie fantastique.\nLieu :\nPhilarmonie de Paris\n221 avenue...
URL:https://association.centralesupelec-alumni.com/fr/group/csa-ile-de-france/587/calendar/concert-the-met-orchestra-a-la-philarmonie-de-paris/2023/06/28/7151
BEGIN:VALARM
TRIGGER:-P0DT1H0M0S
ACTION:DISPLAY
END:VALARM
END:VEVENT
END:VCALENDAR