BEGIN:VCALENDAR
VERSION:2.0
PRODID:-//hacksw/handcal//NONSGML v1.0//EN
BEGIN:VEVENT
DTSTART:20230627T163000Z
DTEND:20230627T180000Z
LOCATION:
ORGANIZER;CN=CSA Carrières:MAILTO:carrieres@centraliens.net
SUMMARY:Améliorer sa prise de décision : Les biais cognitifs ou  comment notre cerveau nous joue des tours
DESCRIPTION:\nWebinaire en association avec l'Association Polytechnique Alumni \nNotre cerveau est un organe formidable qui nous joue de nombreux tours. Confronté à des défis ou à des crises comme celle que nous ...
URL:https://association.centralesupelec-alumni.com/fr/event/ameliorer-sa-prise-de-decision-les-biais-cognitifs-ou-comment-notre-cerveau-nous-joue-des-tours/2023/06/27/7143
BEGIN:VALARM
TRIGGER:-P0DT1H0M0S
ACTION:DISPLAY
END:VALARM
END:VEVENT
END:VCALENDAR