BEGIN:VCALENDAR
VERSION:2.0
PRODID:-//hacksw/handcal//NONSGML v1.0//EN
BEGIN:VEVENT
DTSTART:20230627T103000Z
DTEND:20230627T113000Z
LOCATION:
ORGANIZER;CN=CSA Carrières:MAILTO:carrieres@centraliens.net
SUMMARY:ALUMNI SUMMER SESSION | CARRIÈRE - Webinar “ Discover your Ikigai to identify your career purpose  ” / EN ANGLAIS
DESCRIPTION:\nCe séminaire est proposé dans le cadre du programme d'été d'EDHEC Alumni \nPour t'inscrire\nEDHEC Career Center for life invites you to participate to this webinar:“Discover your Ikigai to identify ...
URL:https://association.centralesupelec-alumni.com/fr/event/alumni-summer-session-carriere-webinar-discover-your-ikigai-to-identify-your-career-purpose-en-anglais/2023/06/27/7130
BEGIN:VALARM
TRIGGER:-P0DT1H0M0S
ACTION:DISPLAY
END:VALARM
END:VEVENT
END:VCALENDAR