BEGIN:VCALENDAR
VERSION:2.0
PRODID:-//hacksw/handcal//NONSGML v1.0//EN
BEGIN:VEVENT
DTSTART:20230923T060000Z
DTEND:20230923T160000Z
LOCATION:Campus de Paris - Saclay
ORGANIZER;CN=CentraleSupélec Alumni:MAILTO:csa-alumni@centralesupelec-alumni.com
SUMMARY:ROCS 2023 (Rencontre Omnisports de CentraleSupélec)
DESCRIPTION:Les inscriptions pour cet événement sont fermées.\nRencontre Omnisports de CentraleSupélec (ROCS)\nSamedi 23 septembre\nCampus de Paris - SaclayÉvénement devenu désormais incontournable de la scène...
URL:https://association.centralesupelec-alumni.com/fr/event/rocs-2023-rencontre-omnisports-de-centralesupelec/2023/09/23/7113
BEGIN:VALARM
TRIGGER:-P0DT1H0M0S
ACTION:DISPLAY
END:VALARM
END:VEVENT
END:VCALENDAR