BEGIN:VCALENDAR
VERSION:2.0
PRODID:-//hacksw/handcal//NONSGML v1.0//EN
BEGIN:VEVENT
DTSTART:20230701T070000Z
DTEND:20230701T150000Z
LOCATION:quai port neuf béziers \n35, Avenue Pierre Brousse \n34500 BEZIERS
ORGANIZER;CN=Dominique Launay - Occitanie-Méditerranée (CSA):MAILTO:dominique.launay@centraliens.net
SUMMARY:Promenade sur le canal du Midi et visite du musée NARBOVIA
DESCRIPTION:Une belle balade entre Béziers et Narbonne :8h45 : rendez-vous au parking devant le 35 av Pierre Brousse Béziers9h – 11h45 : embarquement puis navigation sur le canal du Midi entre Béziers et...
URL:https://association.centralesupelec-alumni.com/fr/group/occitanie-me-diterranee-csa/305/calendar/promenade-sur-le-canal-du-midi-et-visite-du-musee-narbovia/2023/07/01/7087
BEGIN:VALARM
TRIGGER:-P0DT1H0M0S
ACTION:DISPLAY
END:VALARM
END:VEVENT
END:VCALENDAR