BEGIN:VCALENDAR
VERSION:2.0
PRODID:-//hacksw/handcal//NONSGML v1.0//EN
BEGIN:VEVENT
DTSTART:20230627T173000Z
DTEND:20230627T200000Z
LOCATION:CentraleSupélec Alumni \n8, Rue Jean Goujon \n75008 PARIS
ORGANIZER;CN=CentraleSupélec Alumni:MAILTO:csa-alumni@centralesupelec-alumni.com
SUMMARY:Cocktail de l'Assemblée Générale Ordinaire
DESCRIPTION:Nous avons le plaisir de t'inviter au cocktail qui suivra notre Assemblée Générale Ordinaire du 27 juin 2023, dans le salon Panhard-Levassor (au -1).\nCet évènement est réservé exclusivement aux...
URL:https://association.centralesupelec-alumni.com/fr/event/cocktail-de-l-assemblee-generale-ordinaire/2023/06/27/7081
BEGIN:VALARM
TRIGGER:-P0DT1H0M0S
ACTION:DISPLAY
END:VALARM
END:VEVENT
END:VCALENDAR