BEGIN:VCALENDAR
VERSION:2.0
PRODID:-//hacksw/handcal//NONSGML v1.0//EN
BEGIN:VEVENT
DTSTART:20230628T170000Z
DTEND:20230628T200000Z
LOCATION:Maison CentraleSupélec  \n8, Rue Jean Goujon \n75008 PARIS
ORGANIZER;CN=Albin JURA - Énergie Durable (CSA):MAILTO:albin.jura@gmail.com
SUMMARY:Métaux et Electricité : l’équation impossible ?
DESCRIPTION:Le Groupe Ingénieur & Développement Durable, en collaboration avec le Groupe Energie Durable, vous invite à sa prochaine conférence : \nMétaux et Electricité : l’équation impossible ?Le mercredi 28...
URL:https://association.centralesupelec-alumni.com/fr/group/energie-durable-csa/323/calendar/metaux-et-electricite-l-equation-impossible/2023/06/28/7069
BEGIN:VALARM
TRIGGER:-P0DT1H0M0S
ACTION:DISPLAY
END:VALARM
END:VEVENT
END:VCALENDAR