BEGIN:VCALENDAR
VERSION:2.0
PRODID:-//hacksw/handcal//NONSGML v1.0//EN
BEGIN:VEVENT
DTSTART:20230420T103000Z
DTEND:20230420T123000Z
LOCATION:Théâtre Rousseau bâtiment Bouygues \n3, Rue Joliot Curie \n91190 GIF-SUR-YVETTE
ORGANIZER;CN=Irina Jaubert - Économie Sociale & Solidaire (CSA):MAILTO:irina.jaubert@mailo.com
SUMMARY:Café Frappé "Qui veut la peau de l'intelligence artificielle ? Promesses, limites et enjeux."
DESCRIPTION:\nCe Café démarrera par la projection du documentaire «Autopsie d'une intelligence artificielle», prix étudiant du festival international du film scientifique Pariscience 2022 , qui analyse la notion ...
URL:https://association.centralesupelec-alumni.com/fr/group/economie-sociale-solidaire-csa/69/calendar/cafe-frappe-qui-veut-la-peau-de-l-intelligence-artificielle-promesses-limites-et-enjeux/2023/04/20/6982
BEGIN:VALARM
TRIGGER:-P0DT1H0M0S
ACTION:DISPLAY
END:VALARM
END:VEVENT
END:VCALENDAR