BEGIN:VCALENDAR
VERSION:2.0
PRODID:-//hacksw/handcal//NONSGML v1.0//EN
BEGIN:VEVENT
DTSTART:20230420T073000Z
DTEND:20230420T143000Z
LOCATION:Station Meudon sur Seine du Tram T2 \n10, Route des Gardes \n92190 MEUDON
ORGANIZER;CN=Jean-Louis Pallandre - CSA Ile de France:MAILTO:jean-louis.pallandre@wanadoo.fr
SUMMARY:Randonnée de Meudon à Cachan : la nature en ville
DESCRIPTION:Randonnée de Meudon à Cachan : la nature en villeCette randonnée - avec pique-nique - de 17km et 340m de dénivelé positif (les montées sont concentrées en matinée) peut être raccourcie de 2,5km (et...
URL:https://association.centralesupelec-alumni.com/fr/group/csa-ile-de-france/587/calendar/randonnee-de-meudon-a-cachan-la-nature-en-ville/2023/04/20/6977
BEGIN:VALARM
TRIGGER:-P0DT1H0M0S
ACTION:DISPLAY
END:VALARM
END:VEVENT
END:VCALENDAR