BEGIN:VCALENDAR
VERSION:2.0
PRODID:-//hacksw/handcal//NONSGML v1.0//EN
BEGIN:VEVENT
DTSTART:20230524T060000Z
DTEND:20230524T080000Z
LOCATION:Siège de l'Association \n8, Rue Jean Goujon \n75008 PARIS
ORGANIZER;CN=CentraleSupélec Alumni:MAILTO:csa-alumni@centralesupelec-alumni.com
SUMMARY:Face à Face avec Henri Poupart-Lafarge - PDG d'Alstom
DESCRIPTION:\nHenri Poupart-Lafarge - Président du Conseil d’administration & Directeur Général du groupe Alstom\n« Le rail est la colonne vertébrale de la mobilité durable »Alstom est dans une position unique...
URL:https://association.centralesupelec-alumni.com/fr/event/face-a-face-avec-henri-poupart-lafarge-pdg-d-alstom/2023/05/24/6972
BEGIN:VALARM
TRIGGER:-P0DT1H0M0S
ACTION:DISPLAY
END:VALARM
END:VEVENT
END:VCALENDAR