BEGIN:VCALENDAR
VERSION:2.0
PRODID:-//hacksw/handcal//NONSGML v1.0//EN
BEGIN:VEVENT
DTSTART:20230418T070000Z
DTEND:20230418T190000Z
LOCATION:ORANGE VILLAGE  \n1, Place des Droits de l'Homme \n93210 SAINT-DENIS
ORGANIZER;CN=Gabriela Belaid - CentraleSupelec Au Féminin (CSA):MAILTO:gabriela.belaid@centraliens.net
SUMMARY:Hackathon #HelloWomen #WomenInTech - 18 avril
DESCRIPTION:Hackathon #HelloWomen #WomenInTech\nVous avez un esprit entrepreneurial ou êtes juste curieux de découvrir les méthodes agiles et design thinking, de travailler en équipe. Vous êtes étudiants,...
URL:https://association.centralesupelec-alumni.com/fr/group/centralesupelec-au-feminin-csa/73/calendar/hackathon-hellowomen-womenintech-18-avril/2023/04/18/6964
BEGIN:VALARM
TRIGGER:-P0DT1H0M0S
ACTION:DISPLAY
END:VALARM
END:VEVENT
END:VCALENDAR