BEGIN:VCALENDAR
VERSION:2.0
PRODID:-//hacksw/handcal//NONSGML v1.0//EN
BEGIN:VEVENT
DTSTART:20230630T103000Z
DTEND:20230630T120000Z
LOCATION:
ORGANIZER;CN=CSA Carrières:MAILTO:carrieres@centraliens.net
SUMMARY:REPORTE A UNE DATE ULTERIEURE / Visualisez votre carrière dans les moindres détails
DESCRIPTION:\nCe webinaire est reporté à une date ultérieure\nOn approche souvent la recherche d’emploi de façon académique et presque mécanique. Démarche réseau, élaboration d’un pitch, rédaction de cv,...
URL:https://association.centralesupelec-alumni.com/fr/event/reporte-a-une-date-ulterieure-visualisez-votre-carriere-dans-les-moindres-details/2023/06/30/6950
BEGIN:VALARM
TRIGGER:-P0DT1H0M0S
ACTION:DISPLAY
END:VALARM
END:VEVENT
END:VCALENDAR