BEGIN:VCALENDAR
VERSION:2.0
PRODID:-//hacksw/handcal//NONSGML v1.0//EN
BEGIN:VEVENT
DTSTART:20230420T103000Z
DTEND:20230420T120000Z
LOCATION:
ORGANIZER;CN=CSA Carrières:MAILTO:carrieres@centraliens.net
SUMMARY:Surviving fast-paced careers : How to experience work-life balance without having to call in sick or quit ?
DESCRIPTION:Surviving fast-paced careers\nAttention : cet atelier se déroulera en anglais uniquement.\nWorkshop  SURVIVING FAST-PACED CAREERS\nHow to experience Work-Life balance without having to call in sick or...
URL:https://association.centralesupelec-alumni.com/fr/event/surviving-fast-paced-careers-how-to-experience-work-life-balance-without-having-to-call-in-sick-or-quit/2023/04/20/6947
BEGIN:VALARM
TRIGGER:-P0DT1H0M0S
ACTION:DISPLAY
END:VALARM
END:VEVENT
END:VCALENDAR