BEGIN:VCALENDAR
VERSION:2.0
PRODID:-//hacksw/handcal//NONSGML v1.0//EN
BEGIN:VEVENT
DTSTART:20230419T163000Z
DTEND:20230419T180000Z
LOCATION:Maison des Centraliens \n8, Rue Jean Goujon \n75008 PARIS
ORGANIZER;CN=CSA Carrières:MAILTO:carrieres@centraliens.net
SUMMARY:Atelier :  Réussir sa reconversion / EN PRESENTIEL UNIQUEMENT
DESCRIPTION:\nATTENTION : cet atelier se fera en PRESENTIEL UNIQUEMENT\nRebondir par la reconversion, les clés pour une reconversion réussie !Comment vous est venue l’envie de faire un guide sur la...
URL:https://association.centralesupelec-alumni.com/fr/event/atelier-reussir-sa-reconversion-en-presentiel-uniquement/2023/04/19/6945
BEGIN:VALARM
TRIGGER:-P0DT1H0M0S
ACTION:DISPLAY
END:VALARM
END:VEVENT
END:VCALENDAR