BEGIN:VCALENDAR
VERSION:2.0
PRODID:-//hacksw/handcal//NONSGML v1.0//EN
BEGIN:VEVENT
DTSTART:20230420T180500
DTEND:20230420T220500
LOCATION:l'église protestante de Londres \n8-9, Soho Square \nW1D 3QD LONDON
ORGANIZER;CN=Brice Benoliel - Grande-Bretagne (CSA):MAILTO:brice.benoliel@centraliens.net
SUMMARY:La FAFGB vous convie à la célébration de ses 80 ans le jeudi 20 avril prochain
DESCRIPTION:La FAFGB (La Fédération des Associations Françaises\nen Grande Bretagne) vous convie à la célébration de ses 80 ans le jeudi 20 avril prochain à l'église protestante de Londres (8-9 SOHO SQUARE LONDON...
URL:https://association.centralesupelec-alumni.com/fr/group/grande-bretagne-csa/265/calendar/la-fafgb-vous-convie-a-la-celebration-de-ses-80-ans-le-jeudi-20-avril-prochain/2023/04/20/6937
BEGIN:VALARM
TRIGGER:-P0DT1H0M0S
ACTION:DISPLAY
END:VALARM
END:VEVENT
END:VCALENDAR