BEGIN:VCALENDAR
VERSION:2.0
PRODID:-//hacksw/handcal//NONSGML v1.0//EN
BEGIN:VEVENT
DTSTART:20230412T153000Z
DTEND:20230414T190000Z
LOCATION:Village by CA \n55, Rue La Boétie \n75008 PARIS
ORGANIZER;CN=Jacqueline Pasdeloup:MAILTO:jacqueline@asso-supelec.org
SUMMARY:Rencontres WATs4U : édition du 12 au 14 avril 2023
DESCRIPTION:es 3 secrets d'une gestion de carrière réussie : participe aux Rencontres WATs4U du 12 au 14 avrilAttention : \nPour participer, merci de bien veiller à vous inscrire en cliquant sur les liens de...
URL:https://association.centralesupelec-alumni.com/fr/event/rencontres-wats4u-edition-du-12-au-14-avril-2023/2023/04/12/6934
BEGIN:VALARM
TRIGGER:-P0DT1H0M0S
ACTION:DISPLAY
END:VALARM
END:VEVENT
END:VCALENDAR