BEGIN:VCALENDAR
VERSION:2.0
PRODID:-//hacksw/handcal//NONSGML v1.0//EN
BEGIN:VEVENT
DTSTART:20230411T100000Z
DTEND:20230411T110000Z
LOCATION:https://us02web.zoom.us/j/86201831665
ORGANIZER;CN=CentraleSupélec Alumni:MAILTO:csa-alumni@centralesupelec-alumni.com
SUMMARY:Cycle "Regards Croisés" - Le digital et l'innovation dans les armées
DESCRIPTION:Code d'accès du webinar Code secret : 435047...
URL:https://association.centralesupelec-alumni.com/fr/event/cycle-regards-croises-le-digital-et-l-innovation-dans-les-armees/2023/04/11/6918
BEGIN:VALARM
TRIGGER:-P0DT1H0M0S
ACTION:DISPLAY
END:VALARM
END:VEVENT
END:VCALENDAR