BEGIN:VCALENDAR
VERSION:2.0
PRODID:-//hacksw/handcal//NONSGML v1.0//EN
BEGIN:VEVENT
DTSTART:20230420T123000
DTEND:20230420T133000
LOCATION:Charles H \n1, Place Graslin \n44000 NANTES
ORGANIZER;CN=Guillaume Landru - Ouest-Atlantique (CSA):MAILTO:guillaume.landru@gmail.com
SUMMARY:Rencontres et Restos CSOA sur Nantes Centre jeudi 20 avril 2023
DESCRIPTION:Bonjour,Notre prochaine Rencontres&Restos au centre de Nantes aura lieu le jeudi 20 avril à 12h30 (accueil à partir de 12h15) au Charles H place Graslin à Nantes.\nGuillaume
URL:https://association.centralesupelec-alumni.com/fr/group/ouest-atlantique-csa/297/calendar/rencontres-et-restos-csoa-sur-nantes-centre-jeudi-20-avril-2023/2023/04/20/6910
BEGIN:VALARM
TRIGGER:-P0DT1H0M0S
ACTION:DISPLAY
END:VALARM
END:VEVENT
END:VCALENDAR