BEGIN:VCALENDAR
VERSION:2.0
PRODID:-//hacksw/handcal//NONSGML v1.0//EN
BEGIN:VEVENT
DTSTART:20230412T100000Z
DTEND:20230412T110000Z
LOCATION:https://us02web.zoom.us/j/85385658676
ORGANIZER;CN=CentraleSupélec Alumni:MAILTO:csa-alumni@centralesupelec-alumni.com
SUMMARY:Cycle "Remue-Méninges" - ChatGPT : Regards croisés sur les enjeux de ce Chatbot ultra médiatique
DESCRIPTION:Code d'accès du webinar Code secret : 085588...
URL:https://association.centralesupelec-alumni.com/fr/event/cycle-remue-meninges-chatgpt-regards-croises-sur-les-enjeux-de-ce-chatbot-ultra-mediatique/2023/04/12/6902
BEGIN:VALARM
TRIGGER:-P0DT1H0M0S
ACTION:DISPLAY
END:VALARM
END:VEVENT
END:VCALENDAR