BEGIN:VCALENDAR
VERSION:2.0
PRODID:-//hacksw/handcal//NONSGML v1.0//EN
BEGIN:VEVENT
DTSTART:20230420T183000
DTEND:20230420T220000
LOCATION:Automobile Club de France \n6, Place de la Concorde \n75008 PARIS
ORGANIZER;CN=Christian Ledoux - Automobile (CSA):MAILTO:christian.ledoux64@outlook.fr
SUMMARY:Grand Prix ACF Autotech 2023
DESCRIPTION:Comme chaque année je vous partage le Grand Prix ACF AutoTech, l'événement de Gala et finale le 20 avril prochain à 18h30\nPROGRAMME18h30 : accueil des participants19h00-20h15Pitchs des 6 finalistes...
URL:https://association.centralesupelec-alumni.com/fr/group/automobile-csa/317/calendar/grand-prix-acf-autotech-2023/2023/04/20/6901
BEGIN:VALARM
TRIGGER:-P0DT1H0M0S
ACTION:DISPLAY
END:VALARM
END:VEVENT
END:VCALENDAR