BEGIN:VCALENDAR
VERSION:2.0
PRODID:-//hacksw/handcal//NONSGML v1.0//EN
BEGIN:VEVENT
DTSTART:20231108T130000Z
DTEND:20231119T140000Z
LOCATION:OMAN
ORGANIZER;CN=Jean-Jacques Henry - CSA Ile de France:MAILTO:jjghenry@gmail.com
SUMMARY:VOYAGE A OMAN ET AUX EMIRATS
DESCRIPTION:              Circuit du 8 au 19 novembre 2023 à Oman et aux EmiratsInscrivez-vous avant le 2 avril \nLa situation géographique exceptionnelle du sultanat d'Oman est la source de l'attrait touristique...
URL:https://association.centralesupelec-alumni.com/fr/group/csa-ile-de-france/587/calendar/voyage-a-oman-et-aux-emirats/2023/11/08/6898
BEGIN:VALARM
TRIGGER:-P0DT1H0M0S
ACTION:DISPLAY
END:VALARM
END:VEVENT
END:VCALENDAR