BEGIN:VCALENDAR
VERSION:2.0
PRODID:-//hacksw/handcal//NONSGML v1.0//EN
BEGIN:VEVENT
DTSTART:20230418T171500Z
DTEND:20230418T203000Z
LOCATION:Maison CentraleSupélec \n8, Rue Jean Goujon \n75008 PARIS
ORGANIZER;CN=Francis d'Auriac - Énergie Durable (CSA):MAILTO:energie.conseil.plus@gmail.com
SUMMARY:Transport et stockage de l'hydrogène
DESCRIPTION:\nConférence n° 3 du cycle de conférence sur l’hydrogène du groupe Energie Durable : La problématique de la logistique et du transport de l’hydrogène \nMardi 18 avril Accueil à 19hDébut de la...
URL:https://association.centralesupelec-alumni.com/fr/group/energie-durable-csa/323/calendar/transport-et-stockage-de-l-hydrogene/2023/04/18/6890
BEGIN:VALARM
TRIGGER:-P0DT1H0M0S
ACTION:DISPLAY
END:VALARM
END:VEVENT
END:VCALENDAR