BEGIN:VCALENDAR
VERSION:2.0
PRODID:-//hacksw/handcal//NONSGML v1.0//EN
BEGIN:VEVENT
DTSTART:20230413T121500
DTEND:20230413T134500
LOCATION:Théâtre Rousseau Campus de Saclay, Bâtiment Bouygues \n3, Rue Joliot Curie \n91190 GIF-SUR-YVETTE
ORGANIZER;CN=Irina Jaubert - Économie Sociale & Solidaire (CSA):MAILTO:irina.jaubert@mailo.com
SUMMARY:Café Frappé "Nourrir l'Europe:  l'agroécologie peut-elle passer à l'échelle?"
DESCRIPTION:Reprogrammation de l'événement de Xavier Poux au jeudi 13 avril suite à l'annulation du 23 mars\nDepuis de nombreuses années, des agriculteurs, paysans, producteurs ont testé et mis en œuvre des...
URL:https://association.centralesupelec-alumni.com/fr/group/economie-sociale-solidaire-csa/69/calendar/cafe-frappe-nourrir-l-europe-l-agroecologie-peut-elle-passer-a-l-echelle/2023/04/13/6881
BEGIN:VALARM
TRIGGER:-P0DT1H0M0S
ACTION:DISPLAY
END:VALARM
END:VEVENT
END:VCALENDAR