BEGIN:VCALENDAR
VERSION:2.0
PRODID:-//hacksw/handcal//NONSGML v1.0//EN
BEGIN:VEVENT
DTSTART:20230309T160000
DTEND:20230309T190000
LOCATION:INSA Rennes amphi GCU (Génie Civil & Urbain) \nRue Gaston Berger \n35700 RENNES
ORGANIZER;CN=Hervé Layec - Bretagne (CSA):MAILTO:herve.layec@wanadoo.fr
SUMMARY:JNI 2023 : conférence sur le spatial à Rennes
DESCRIPTION:Dans le cadre des JNI 2023 de l'IESF, cette conférence sur le spatial se tiendra dans l'amphi GCU (Génie Civil & Urbain) de l'INSA de Rennes.La conférence est gratuite.\nPour faciliter l'organisation,...
URL:https://association.centralesupelec-alumni.com/fr/group/bretagne-csa/37/calendar/jni-2023-conference-sur-le-spatial-a-rennes/2023/03/09/6851
BEGIN:VALARM
TRIGGER:-P0DT1H0M0S
ACTION:DISPLAY
END:VALARM
END:VEVENT
END:VCALENDAR