BEGIN:VCALENDAR
VERSION:2.0
PRODID:-//hacksw/handcal//NONSGML v1.0//EN
BEGIN:VEVENT
DTSTART:20230308T120000
DTEND:20230308T130000
LOCATION:https://us02web.zoom.us/j/86779379052
ORGANIZER;CN=CentraleSupélec Alumni:MAILTO:csa-alumni@centralesupelec-alumni.com
SUMMARY:Cycle Alumni à la Une - Spécial femmes entrepreneures
DESCRIPTION:Code d'accès du webinar 240493...
URL:https://association.centralesupelec-alumni.com/fr/event/cycle-alumni-a-la-une-special-femmes-entrepreneures/2023/03/08/6849
BEGIN:VALARM
TRIGGER:-P0DT1H0M0S
ACTION:DISPLAY
END:VALARM
END:VEVENT
END:VCALENDAR