BEGIN:VCALENDAR
VERSION:2.0
PRODID:-//hacksw/handcal//NONSGML v1.0//EN
BEGIN:VEVENT
DTSTART:20230309T190000
DTEND:20230309T213000
LOCATION:Hôtel-Restaurant Campanile Grenoble-Université \n3, Avenue de Zella-Mehlis \n38400 SAINT-MARTIN-D'HERES
ORGANIZER;CN=Philippe Chinkirch:MAILTO:philippe.chinkirch@centraliens.net
SUMMARY:Conférence gourmande – Le bateau électrique
DESCRIPTION:Ce mois-ci notre rendez-vous mensuel à Grenoble prend la forme d’une “conférence gourmande”, le jeudi 9 mars au soir. Ce nouveau format associe une conférence suivie d’un repas convivial un soir de...
URL:https://association.centralesupelec-alumni.com/fr/event/conference-gourmande-le-bateau-electrique/2023/03/09/6836
BEGIN:VALARM
TRIGGER:-P0DT1H0M0S
ACTION:DISPLAY
END:VALARM
END:VEVENT
END:VCALENDAR