BEGIN:VCALENDAR
VERSION:2.0
PRODID:-//hacksw/handcal//NONSGML v1.0//EN
BEGIN:VEVENT
DTSTART:20230308T093000
DTEND:20230308T170000
LOCATION:ORANGE VILLAGE  \n1, Avenue du Président Nelson Mandela \n94110 ARCUEIL
ORGANIZER;CN=Gabriela Belaid - CentraleSupelec Au Féminin (CSA):MAILTO:gabriela.belaid@centraliens.net
SUMMARY:Hackathon Women In Tech - HELLO WOMEN avec  Groupe Orange
DESCRIPTION:\nCentraleSupelec au Féminin est partenaire du Hackathon Hello Women in Tech 2023\nLe saviez vous ? Pour atteindre ces objectifs et augmenter le nombre de femmes dans les métiers techniques et du...
URL:https://association.centralesupelec-alumni.com/fr/group/centralesupelec-au-feminin-csa/73/calendar/hackathon-women-in-tech-hello-women-avec-groupe-orange/2023/03/08/6829
BEGIN:VALARM
TRIGGER:-P0DT1H0M0S
ACTION:DISPLAY
END:VALARM
END:VEVENT
END:VCALENDAR