BEGIN:VCALENDAR
VERSION:2.0
PRODID:-//hacksw/handcal//NONSGML v1.0//EN
BEGIN:VEVENT
DTSTART:20230325T190000
DTEND:20230326T150000
LOCATION:Pic du Midi - Accès par La Mongie
ORGANIZER;CN=Hélène Rinn - Centraliens et Supélec en Aquitaine (CSA):MAILTO:hjc.rinn@mailo.fr
SUMMARY:Pic du Midi - 25 et 26 mars
DESCRIPTION:Visite du pic du midi de Bigorre par notre camarade Jacques Mortier (ECP 68) Samedi 25 et Dimanche 26 mars\nATTENTION : Cette  visite  à 2877 m d’altitude, avec parfois du vent, du froid,… est...
URL:https://association.centralesupelec-alumni.com/fr/group/centraliens-et-supelec-en-aquitaine-csa/287/calendar/pic-du-midi-25-et-26-mars/2023/03/25/6827
BEGIN:VALARM
TRIGGER:-P0DT1H0M0S
ACTION:DISPLAY
END:VALARM
END:VEVENT
END:VCALENDAR